Package: pRoloc Version: 1.48.0 Command: rm -rf pRoloc.buildbin-libdir && mkdir pRoloc.buildbin-libdir && /Users/biocbuild/BBS/utils/build-universal.sh pRoloc_1.48.0.tar.gz /Library/Frameworks/R.framework/Resources/bin/R pRoloc.buildbin-libdir StartedAt: 2025-10-14 14:25:31 -0400 (Tue, 14 Oct 2025) EndedAt: 2025-10-14 14:29:19 -0400 (Tue, 14 Oct 2025) EllapsedTime: 228.2 seconds RetCode: 0 Status: OK PackageFile: pRoloc_1.48.0.tgz PackageFileSize: 10.24 MiB