Package: pRoloc Version: 1.48.0 Command: /home/biocbuild/R/R/bin/R CMD INSTALL pRoloc StartedAt: 2025-10-13 20:57:25 -0000 (Mon, 13 Oct 2025) EndedAt: 2025-10-13 20:59:27 -0000 (Mon, 13 Oct 2025) EllapsedTime: 122.5 seconds RetCode: 0 Status: OK