Package: pRoloc Version: 1.48.0 Command: /Library/Frameworks/R.framework/Resources/bin/R CMD INSTALL pRoloc StartedAt: 2025-10-13 17:05:22 -0400 (Mon, 13 Oct 2025) EndedAt: 2025-10-13 17:06:51 -0400 (Mon, 13 Oct 2025) EllapsedTime: 89.5 seconds RetCode: 0 Status: OK