Package: pRoloc Version: 1.48.0 Command: /Library/Frameworks/R.framework/Resources/bin/R CMD build --keep-empty-dirs --no-resave-data pRoloc StartedAt: 2025-10-14 06:55:10 -0400 (Tue, 14 Oct 2025) EndedAt: 2025-10-14 06:59:37 -0400 (Tue, 14 Oct 2025) EllapsedTime: 266.8 seconds RetCode: 0 Status: OK PackageFile: pRoloc_1.48.0.tar.gz PackageFileSize: 10.95 MiB