Package: optimalFlow Version: 1.20.0 Command: /home/biocbuild/bbs-3.21-bioc/R/bin/R CMD INSTALL optimalFlow StartedAt: 2025-10-15 15:13:10 -0400 (Wed, 15 Oct 2025) EndedAt: 2025-10-15 15:13:26 -0400 (Wed, 15 Oct 2025) EllapsedTime: 16.0 seconds RetCode: 0 Status: OK