Package: optimalFlow Version: 1.20.0 Command: /home/biocbuild/bbs-3.21-bioc/R/bin/R CMD build --keep-empty-dirs --no-resave-data optimalFlow StartedAt: 2025-10-15 18:58:12 -0400 (Wed, 15 Oct 2025) EndedAt: 2025-10-15 19:04:38 -0400 (Wed, 15 Oct 2025) EllapsedTime: 385.6 seconds RetCode: 0 Status: OK PackageFile: optimalFlow_1.20.0.tar.gz PackageFileSize: 1.317 MiB