Package: optimalFlow Version: 1.20.0 Command: /home/biocbuild/R/R/bin/R CMD INSTALL optimalFlow StartedAt: 2025-10-13 20:26:01 -0000 (Mon, 13 Oct 2025) EndedAt: 2025-10-13 20:26:22 -0000 (Mon, 13 Oct 2025) EllapsedTime: 21.9 seconds RetCode: 0 Status: OK