Package: optimalFlow Version: 1.20.0 Command: /Library/Frameworks/R.framework/Resources/bin/R CMD build --keep-empty-dirs --no-resave-data optimalFlow StartedAt: 2025-10-14 06:02:46 -0400 (Tue, 14 Oct 2025) EndedAt: 2025-10-14 06:08:56 -0400 (Tue, 14 Oct 2025) EllapsedTime: 370.1 seconds RetCode: 0 Status: OK PackageFile: optimalFlow_1.20.0.tar.gz PackageFileSize: 1.273 MiB