Package: openPrimeR Version: 1.30.1 Command: /home/biocbuild/R/R/bin/R CMD INSTALL openPrimeR StartedAt: 2025-10-13 21:07:05 -0000 (Mon, 13 Oct 2025) EndedAt: 2025-10-13 21:07:47 -0000 (Mon, 13 Oct 2025) EllapsedTime: 41.9 seconds RetCode: 0 Status: OK