Package: ontoProc Version: 2.2.4 Command: /home/biocbuild/R/R/bin/R CMD INSTALL ontoProc StartedAt: 2025-10-13 20:50:28 -0000 (Mon, 13 Oct 2025) EndedAt: 2025-10-13 20:51:15 -0000 (Mon, 13 Oct 2025) EllapsedTime: 46.4 seconds RetCode: 0 Status: OK