Package: ontoProc Version: 2.2.4 Command: /home/biocbuild/R/R/bin/R CMD build --keep-empty-dirs --no-resave-data ontoProc StartedAt: 2025-10-14 03:13:17 -0000 (Tue, 14 Oct 2025) EndedAt: 2025-10-14 03:18:04 -0000 (Tue, 14 Oct 2025) EllapsedTime: 287.2 seconds RetCode: 1 Status: ERROR PackageFile: None PackageFileSize: NA