Package: onlineFDR Version: 2.16.0 Command: /home/biocbuild/bbs-3.21-bioc/R/bin/R CMD build --keep-empty-dirs --no-resave-data onlineFDR StartedAt: 2025-10-15 18:57:20 -0400 (Wed, 15 Oct 2025) EndedAt: 2025-10-15 18:58:13 -0400 (Wed, 15 Oct 2025) EllapsedTime: 53.1 seconds RetCode: 0 Status: OK PackageFile: onlineFDR_2.16.0.tar.gz PackageFileSize: 1.919 MiB