Package: onlineFDR Version: 2.16.0 Command: /home/biocbuild/R/R/bin/R CMD INSTALL onlineFDR StartedAt: 2025-10-13 20:12:59 -0000 (Mon, 13 Oct 2025) EndedAt: 2025-10-13 20:14:32 -0000 (Mon, 13 Oct 2025) EllapsedTime: 93.5 seconds RetCode: 0 Status: OK