Package: oncomix Version: 1.30.0 Command: /home/biocbuild/R/R/bin/R CMD INSTALL oncomix StartedAt: 2025-10-13 20:47:47 -0000 (Mon, 13 Oct 2025) EndedAt: 2025-10-13 20:48:21 -0000 (Mon, 13 Oct 2025) EllapsedTime: 34.6 seconds RetCode: 0 Status: OK