Package: oncomix Version: 1.30.0 Command: /home/biocbuild/R/R/bin/R CMD build --keep-empty-dirs --no-resave-data oncomix StartedAt: 2025-10-14 03:12:33 -0000 (Tue, 14 Oct 2025) EndedAt: 2025-10-14 03:13:57 -0000 (Tue, 14 Oct 2025) EllapsedTime: 84.2 seconds RetCode: 0 Status: OK PackageFile: oncomix_1.30.0.tar.gz PackageFileSize: 2.43 MiB