Package: oncomix Version: 1.30.0 Command: rm -rf oncomix.buildbin-libdir && mkdir oncomix.buildbin-libdir && /Users/biocbuild/BBS/utils/build-universal.sh oncomix_1.30.0.tar.gz /Library/Frameworks/R.framework/Resources/bin/R oncomix.buildbin-libdir StartedAt: 2025-10-15 19:40:51 -0400 (Wed, 15 Oct 2025) EndedAt: 2025-10-15 19:41:23 -0400 (Wed, 15 Oct 2025) EllapsedTime: 31.5 seconds RetCode: 0 Status: OK PackageFile: oncomix_1.30.0.tgz PackageFileSize: 2.467 MiB