Package: ompBAM Version: 1.12.0 Command: /Library/Frameworks/R.framework/Resources/bin/R CMD INSTALL ompBAM StartedAt: 2025-10-13 15:06:10 -0400 (Mon, 13 Oct 2025) EndedAt: 2025-10-13 15:06:20 -0400 (Mon, 13 Oct 2025) EllapsedTime: 9.8 seconds RetCode: 0 Status: OK