Package: ompBAM Version: 1.12.0 Command: rm -rf ompBAM.buildbin-libdir && mkdir ompBAM.buildbin-libdir && /Users/biocbuild/BBS/utils/build-universal.sh ompBAM_1.12.0.tar.gz /Library/Frameworks/R.framework/Resources/bin/R ompBAM.buildbin-libdir StartedAt: 2025-10-14 14:17:58 -0400 (Tue, 14 Oct 2025) EndedAt: 2025-10-14 14:18:05 -0400 (Tue, 14 Oct 2025) EllapsedTime: 7.5 seconds RetCode: 0 Status: OK PackageFile: ompBAM_1.12.0.tgz PackageFileSize: 3.144 MiB