Package: ompBAM Version: 1.12.0 Command: /home/biocbuild/R/R/bin/R CMD INSTALL ompBAM StartedAt: 2025-10-13 20:12:42 -0000 (Mon, 13 Oct 2025) EndedAt: 2025-10-13 20:12:50 -0000 (Mon, 13 Oct 2025) EllapsedTime: 7.9 seconds RetCode: 0 Status: OK