Package: ompBAM Version: 1.12.0 Command: /home/biocbuild/R/R/bin/R CMD build --keep-empty-dirs --no-resave-data ompBAM StartedAt: 2025-10-14 03:12:06 -0000 (Tue, 14 Oct 2025) EndedAt: 2025-10-14 03:12:33 -0000 (Tue, 14 Oct 2025) EllapsedTime: 27.0 seconds RetCode: 0 Status: OK PackageFile: ompBAM_1.12.0.tar.gz PackageFileSize: 3.208 MiB