Package: omicsViewer Version: 1.12.0 Command: /home/biocbuild/bbs-3.21-bioc/R/bin/R CMD build --keep-empty-dirs --no-resave-data omicsViewer StartedAt: 2025-10-15 18:56:06 -0400 (Wed, 15 Oct 2025) EndedAt: 2025-10-15 18:56:58 -0400 (Wed, 15 Oct 2025) EllapsedTime: 52.0 seconds RetCode: 0 Status: OK PackageFile: omicsViewer_1.12.0.tar.gz PackageFileSize: 4.325 MiB