Package: omicsViewer Version: 1.12.0 Command: /home/biocbuild/R/R/bin/R CMD INSTALL omicsViewer StartedAt: 2025-10-13 20:39:03 -0000 (Mon, 13 Oct 2025) EndedAt: 2025-10-13 20:39:53 -0000 (Mon, 13 Oct 2025) EllapsedTime: 49.7 seconds RetCode: 0 Status: OK