Package: omicsViewer Version: 1.12.0 Command: /Library/Frameworks/R.framework/Resources/bin/R CMD INSTALL omicsViewer StartedAt: 2025-10-13 16:46:36 -0400 (Mon, 13 Oct 2025) EndedAt: 2025-10-13 16:47:15 -0400 (Mon, 13 Oct 2025) EllapsedTime: 39.1 seconds RetCode: 0 Status: OK