Package: omicsViewer Version: 1.12.0 Command: /Library/Frameworks/R.framework/Resources/bin/R CMD build --keep-empty-dirs --no-resave-data omicsViewer StartedAt: 2025-10-14 05:55:15 -0400 (Tue, 14 Oct 2025) EndedAt: 2025-10-14 05:56:22 -0400 (Tue, 14 Oct 2025) EllapsedTime: 66.9 seconds RetCode: 0 Status: OK PackageFile: omicsViewer_1.12.0.tar.gz PackageFileSize: 4.325 MiB