Package: omicplotR Version: 1.28.0 Command: /home/biocbuild/bbs-3.21-bioc/R/bin/R CMD INSTALL omicplotR StartedAt: 2025-10-15 15:33:28 -0400 (Wed, 15 Oct 2025) EndedAt: 2025-10-15 15:33:51 -0400 (Wed, 15 Oct 2025) EllapsedTime: 22.8 seconds RetCode: 0 Status: OK