Package: omicplotR Version: 1.28.0 Command: /home/biocbuild/bbs-3.21-bioc/R/bin/R CMD build --keep-empty-dirs --no-resave-data omicplotR StartedAt: 2025-10-15 18:55:41 -0400 (Wed, 15 Oct 2025) EndedAt: 2025-10-15 18:56:06 -0400 (Wed, 15 Oct 2025) EllapsedTime: 25.0 seconds RetCode: 0 Status: OK PackageFile: omicplotR_1.28.0.tar.gz PackageFileSize: 1.64 MiB