Package: omicplotR Version: 1.28.0 Command: /Library/Frameworks/R.framework/Resources/bin/R CMD INSTALL omicplotR StartedAt: 2025-10-13 16:02:29 -0400 (Mon, 13 Oct 2025) EndedAt: 2025-10-13 16:03:20 -0400 (Mon, 13 Oct 2025) EllapsedTime: 50.6 seconds RetCode: 0 Status: OK