Package: omicplotR Version: 1.28.0 Command: rm -rf omicplotR.buildbin-libdir && mkdir omicplotR.buildbin-libdir && /Users/biocbuild/BBS/utils/build-universal.sh omicplotR_1.28.0.tar.gz /Library/Frameworks/R.framework/Resources/bin/R omicplotR.buildbin-libdir StartedAt: 2025-10-14 14:17:34 -0400 (Tue, 14 Oct 2025) EndedAt: 2025-10-14 14:18:40 -0400 (Tue, 14 Oct 2025) EllapsedTime: 65.9 seconds RetCode: 0 Status: OK PackageFile: omicplotR_1.28.0.tgz PackageFileSize: 1.182 MiB