Package: omicplotR Version: 1.28.0 Command: /home/biocbuild/R/R/bin/R CMD INSTALL omicplotR StartedAt: 2025-10-13 20:49:34 -0000 (Mon, 13 Oct 2025) EndedAt: 2025-10-13 20:50:07 -0000 (Mon, 13 Oct 2025) EllapsedTime: 32.7 seconds RetCode: 0 Status: OK