Package: omicade4 Version: 1.48.0 Command: /home/biocbuild/bbs-3.21-bioc/R/bin/R CMD INSTALL omicade4 StartedAt: 2025-10-15 15:19:57 -0400 (Wed, 15 Oct 2025) EndedAt: 2025-10-15 15:20:18 -0400 (Wed, 15 Oct 2025) EllapsedTime: 20.8 seconds RetCode: 0 Status: OK