Package: omicade4 Version: 1.48.0 Command: /home/biocbuild/bbs-3.21-bioc/R/bin/R CMD build --keep-empty-dirs --no-resave-data omicade4 StartedAt: 2025-10-15 18:55:28 -0400 (Wed, 15 Oct 2025) EndedAt: 2025-10-15 18:56:01 -0400 (Wed, 15 Oct 2025) EllapsedTime: 33.1 seconds RetCode: 0 Status: OK PackageFile: omicade4_1.48.0.tar.gz PackageFileSize: 544.1 KiB