Package: omicade4 Version: 1.48.0 Command: /home/biocbuild/R/R/bin/R CMD INSTALL omicade4 StartedAt: 2025-10-13 20:32:12 -0000 (Mon, 13 Oct 2025) EndedAt: 2025-10-13 20:32:42 -0000 (Mon, 13 Oct 2025) EllapsedTime: 30.3 seconds RetCode: 0 Status: OK