Package: omicade4 Version: 1.48.0 Command: /home/biocbuild/R/R/bin/R CMD build --keep-empty-dirs --no-resave-data omicade4 StartedAt: 2025-10-14 03:09:07 -0000 (Tue, 14 Oct 2025) EndedAt: 2025-10-14 03:10:07 -0000 (Tue, 14 Oct 2025) EllapsedTime: 60.1 seconds RetCode: 0 Status: OK PackageFile: omicade4_1.48.0.tar.gz PackageFileSize: 537.2 KiB