Package: omicade4 Version: 1.48.0 Command: /Library/Frameworks/R.framework/Resources/bin/R CMD INSTALL omicade4 StartedAt: 2025-10-13 16:18:01 -0400 (Mon, 13 Oct 2025) EndedAt: 2025-10-13 16:18:25 -0400 (Mon, 13 Oct 2025) EllapsedTime: 24.6 seconds RetCode: 0 Status: OK