Package: omicade4 Version: 1.48.0 Command: /Library/Frameworks/R.framework/Resources/bin/R CMD build --keep-empty-dirs --no-resave-data omicade4 StartedAt: 2025-10-14 05:52:41 -0400 (Tue, 14 Oct 2025) EndedAt: 2025-10-14 05:53:27 -0400 (Tue, 14 Oct 2025) EllapsedTime: 46.2 seconds RetCode: 0 Status: OK PackageFile: omicade4_1.48.0.tar.gz PackageFileSize: 544.3 KiB