Package: oligoClasses Version: 1.70.0 Command: /home/biocbuild/R/R/bin/R CMD INSTALL oligoClasses StartedAt: 2025-10-13 20:31:38 -0000 (Mon, 13 Oct 2025) EndedAt: 2025-10-13 20:32:31 -0000 (Mon, 13 Oct 2025) EllapsedTime: 53.4 seconds RetCode: 0 Status: OK