Package: oligoClasses Version: 1.70.0 Command: /home/biocbuild/R/R/bin/R CMD build --keep-empty-dirs --no-resave-data oligoClasses StartedAt: 2025-10-14 03:08:40 -0000 (Tue, 14 Oct 2025) EndedAt: 2025-10-14 03:08:43 -0000 (Tue, 14 Oct 2025) EllapsedTime: 3.0 seconds RetCode: 0 Status: OK PackageFile: oligoClasses_1.70.0.tar.gz PackageFileSize: 364.6 KiB