Package: oligoClasses Version: 1.70.0 Command: rm -rf oligoClasses.buildbin-libdir && mkdir oligoClasses.buildbin-libdir && /Users/biocbuild/BBS/utils/build-universal.sh oligoClasses_1.70.0.tar.gz /Library/Frameworks/R.framework/Resources/bin/R oligoClasses.buildbin-libdir StartedAt: 2025-10-15 19:38:50 -0400 (Wed, 15 Oct 2025) EndedAt: 2025-10-15 19:39:37 -0400 (Wed, 15 Oct 2025) EllapsedTime: 46.7 seconds RetCode: 0 Status: OK PackageFile: oligoClasses_1.70.0.tgz PackageFileSize: 1.375 MiB