Package: octad Version: 1.10.0 Command: /home/biocbuild/bbs-3.21-bioc/R/bin/R CMD INSTALL octad StartedAt: 2025-10-15 15:54:35 -0400 (Wed, 15 Oct 2025) EndedAt: 2025-10-15 15:55:31 -0400 (Wed, 15 Oct 2025) EllapsedTime: 56.0 seconds RetCode: 0 Status: OK