Package: octad Version: 1.10.0 Command: /home/biocbuild/R/R/bin/R CMD INSTALL octad StartedAt: 2025-10-13 21:14:53 -0000 (Mon, 13 Oct 2025) EndedAt: 2025-10-13 21:16:16 -0000 (Mon, 13 Oct 2025) EllapsedTime: 83.3 seconds RetCode: 0 Status: OK