Package: octad Version: 1.10.0 Command: /home/biocbuild/R/R/bin/R CMD build --keep-empty-dirs --no-resave-data octad StartedAt: 2025-10-14 03:07:54 -0000 (Tue, 14 Oct 2025) EndedAt: 2025-10-14 03:13:45 -0000 (Tue, 14 Oct 2025) EllapsedTime: 350.6 seconds RetCode: 1 Status: ERROR PackageFile: None PackageFileSize: NA