Package: octad Version: 1.10.0 Command: /Library/Frameworks/R.framework/Resources/bin/R CMD INSTALL octad StartedAt: 2025-10-13 18:18:24 -0400 (Mon, 13 Oct 2025) EndedAt: 2025-10-13 18:19:32 -0400 (Mon, 13 Oct 2025) EllapsedTime: 68.3 seconds RetCode: 0 Status: OK