Package: octad Version: 1.10.0 Command: /Library/Frameworks/R.framework/Resources/bin/R CMD build --keep-empty-dirs --no-resave-data octad StartedAt: 2025-10-14 05:50:11 -0400 (Tue, 14 Oct 2025) EndedAt: 2025-10-14 05:55:22 -0400 (Tue, 14 Oct 2025) EllapsedTime: 310.8 seconds RetCode: 0 Status: OK PackageFile: octad_1.10.0.tar.gz PackageFileSize: 1.428 MiB