Package: nullranges Version: 1.14.0 Command: /home/biocbuild/R/R/bin/R CMD build --keep-empty-dirs --no-resave-data nullranges StartedAt: 2025-10-14 03:07:18 -0000 (Tue, 14 Oct 2025) EndedAt: 2025-10-14 03:12:30 -0000 (Tue, 14 Oct 2025) EllapsedTime: 311.5 seconds RetCode: 0 Status: OK PackageFile: nullranges_1.14.0.tar.gz PackageFileSize: 5.174 MiB