Package: nullranges Version: 1.14.0 Command: /Library/Frameworks/R.framework/Resources/bin/R CMD INSTALL nullranges StartedAt: 2025-10-13 16:57:26 -0400 (Mon, 13 Oct 2025) EndedAt: 2025-10-13 16:58:11 -0400 (Mon, 13 Oct 2025) EllapsedTime: 44.8 seconds RetCode: 0 Status: OK