Package: nullranges Version: 1.14.0 Command: rm -rf nullranges.buildbin-libdir && mkdir nullranges.buildbin-libdir && /Users/biocbuild/BBS/utils/build-universal.sh nullranges_1.14.0.tar.gz /Library/Frameworks/R.framework/Resources/bin/R nullranges.buildbin-libdir StartedAt: 2025-10-15 19:38:11 -0400 (Wed, 15 Oct 2025) EndedAt: 2025-10-15 19:39:02 -0400 (Wed, 15 Oct 2025) EllapsedTime: 50.9 seconds RetCode: 0 Status: OK PackageFile: nullranges_1.14.0.tgz PackageFileSize: 5.011 MiB