Package: nucleR Version: 2.40.0 Command: /home/biocbuild/R/R/bin/R CMD INSTALL nucleR StartedAt: 2025-10-13 21:08:38 -0000 (Mon, 13 Oct 2025) EndedAt: 2025-10-13 21:09:31 -0000 (Mon, 13 Oct 2025) EllapsedTime: 52.9 seconds RetCode: 0 Status: OK