Package: nucleR Version: 2.40.0 Command: /home/biocbuild/R/R/bin/R CMD build --keep-empty-dirs --no-resave-data nucleR StartedAt: 2025-10-14 03:07:12 -0000 (Tue, 14 Oct 2025) EndedAt: 2025-10-14 03:09:14 -0000 (Tue, 14 Oct 2025) EllapsedTime: 121.3 seconds RetCode: 0 Status: OK PackageFile: nucleR_2.40.0.tar.gz PackageFileSize: 1.752 MiB