Package: nuCpos Version: 1.26.0 Command: /home/biocbuild/R/R/bin/R CMD INSTALL nuCpos StartedAt: 2025-10-13 20:13:03 -0000 (Mon, 13 Oct 2025) EndedAt: 2025-10-13 20:13:29 -0000 (Mon, 13 Oct 2025) EllapsedTime: 25.9 seconds RetCode: 0 Status: OK