Package: nipalsMCIA Version: 1.6.0 Command: /home/biocbuild/bbs-3.21-bioc/R/bin/R CMD check --install=check:nipalsMCIA.install-out.txt --library=/home/biocbuild/bbs-3.21-bioc/R/site-library --timings nipalsMCIA_1.6.0.tar.gz StartedAt: 2025-10-16 01:41:39 -0400 (Thu, 16 Oct 2025) EndedAt: 2025-10-16 01:49:26 -0400 (Thu, 16 Oct 2025) EllapsedTime: 466.6 seconds RetCode: 0 Status: OK CheckDir: nipalsMCIA.Rcheck Warnings: 0